Package: biomformat Version: 1.35.0 Command: /home/biocbuild/bbs-3.21-bioc/R/bin/R CMD check --install=check:biomformat.install-out.txt --library=/home/biocbuild/bbs-3.21-bioc/R/site-library --timings biomformat_1.35.0.tar.gz StartedAt: 2025-02-04 20:24:01 -0500 (Tue, 04 Feb 2025) EndedAt: 2025-02-04 20:24:49 -0500 (Tue, 04 Feb 2025) EllapsedTime: 48.0 seconds RetCode: 0 Status: OK CheckDir: biomformat.Rcheck Warnings: 0