Package: biomformat Version: 1.35.0 Command: E:\biocbuild\bbs-3.21-bioc\R\bin\R.exe CMD check --no-multiarch --install=check:biomformat.install-out.txt --library=E:\biocbuild\bbs-3.21-bioc\R\library --no-vignettes --timings biomformat_1.35.0.tar.gz StartedAt: 2025-02-09 23:06:01 -0500 (Sun, 09 Feb 2025) EndedAt: 2025-02-09 23:07:03 -0500 (Sun, 09 Feb 2025) EllapsedTime: 62.0 seconds RetCode: 0 Status: OK CheckDir: biomformat.Rcheck Warnings: 0