Package: biosigner Version: 1.35.0 Command: rm -rf biosigner.buildbin-libdir && mkdir biosigner.buildbin-libdir && /Users/biocbuild/BBS/utils/build-universal.sh biosigner_1.35.0.tar.gz /Library/Frameworks/R.framework/Resources/bin/R biosigner.buildbin-libdir StartedAt: 2025-02-05 22:12:28 -0500 (Wed, 05 Feb 2025) EndedAt: 2025-02-05 22:12:40 -0500 (Wed, 05 Feb 2025) EllapsedTime: 12.3 seconds RetCode: 0 Status: OK PackageFile: biosigner_1.35.0.tgz PackageFileSize: 4.929 MiB