Package: biosigner Version: 1.35.0 Command: /Library/Frameworks/R.framework/Resources/bin/R CMD build --keep-empty-dirs --no-resave-data biosigner StartedAt: 2025-02-05 15:44:01 -0500 (Wed, 05 Feb 2025) EndedAt: 2025-02-05 15:45:01 -0500 (Wed, 05 Feb 2025) EllapsedTime: 60.6 seconds RetCode: 0 Status: OK PackageFile: biosigner_1.35.0.tar.gz PackageFileSize: 4.56 MiB