Package: biosigner Version: 1.35.0 Command: /Library/Frameworks/R.framework/Resources/bin/R CMD check --install=check:biosigner.install-out.txt --library=/Library/Frameworks/R.framework/Resources/library --no-vignettes --timings biosigner_1.35.0.tar.gz StartedAt: 2025-02-05 18:20:52 -0500 (Wed, 05 Feb 2025) EndedAt: 2025-02-05 18:22:47 -0500 (Wed, 05 Feb 2025) EllapsedTime: 114.9 seconds RetCode: 1 Status: ERROR CheckDir: biosigner.Rcheck Warnings: NA