Package: biosigner Version: 1.35.0 Command: /home/biocbuild/R/R/bin/R CMD build --keep-empty-dirs --no-resave-data biosigner StartedAt: 2025-01-28 21:20:00 -0000 (Tue, 28 Jan 2025) EndedAt: 2025-01-28 21:24:11 -0000 (Tue, 28 Jan 2025) EllapsedTime: 251.1 seconds RetCode: 0 Status: OK PackageFile: biosigner_1.35.0.tar.gz PackageFileSize: 3.623 MiB