Package: biosigner Version: 1.35.0 Command: /home/biocbuild/R/R/bin/R CMD check --install=check:biosigner.install-out.txt --library=/home/biocbuild/R/R/site-library --no-vignettes --timings biosigner_1.35.0.tar.gz StartedAt: 2025-01-28 08:30:00 -0000 (Tue, 28 Jan 2025) EndedAt: 2025-01-28 08:52:42 -0000 (Tue, 28 Jan 2025) EllapsedTime: 1361.5 seconds RetCode: 1 Status: ERROR CheckDir: biosigner.Rcheck Warnings: NA