Package: biosigner Version: 1.35.0 Command: rm -rf biosigner.buildbin-libdir && mkdir biosigner.buildbin-libdir && /Users/biocbuild/BBS/utils/build-universal.sh biosigner_1.35.0.tar.gz /Library/Frameworks/R.framework/Resources/bin/R biosigner.buildbin-libdir StartedAt: 2025-02-06 00:21:07 -0500 (Thu, 06 Feb 2025) EndedAt: 2025-02-06 00:21:47 -0500 (Thu, 06 Feb 2025) EllapsedTime: 39.5 seconds RetCode: 0 Status: OK PackageFile: biosigner_1.35.0.tgz PackageFileSize: 4.93 MiB