Package: biosigner Version: 1.35.0 Command: /Library/Frameworks/R.framework/Resources/bin/R CMD build --keep-empty-dirs --no-resave-data biosigner StartedAt: 2025-02-05 16:01:59 -0500 (Wed, 05 Feb 2025) EndedAt: 2025-02-05 16:04:29 -0500 (Wed, 05 Feb 2025) EllapsedTime: 149.3 seconds RetCode: 0 Status: OK PackageFile: biosigner_1.35.0.tar.gz PackageFileSize: 4.561 MiB