Package: biosigner Version: 1.35.0 Command: /Library/Frameworks/R.framework/Resources/bin/R CMD INSTALL biosigner StartedAt: 2025-02-05 15:38:59 -0500 (Wed, 05 Feb 2025) EndedAt: 2025-02-05 15:39:36 -0500 (Wed, 05 Feb 2025) EllapsedTime: 36.9 seconds RetCode: 0 Status: OK