Package: biosigner Version: 1.35.0 Command: /home/biocbuild/bbs-3.21-bioc/R/bin/R CMD build --keep-empty-dirs --no-resave-data biosigner StartedAt: 2025-02-05 16:23:45 -0500 (Wed, 05 Feb 2025) EndedAt: 2025-02-05 16:26:24 -0500 (Wed, 05 Feb 2025) EllapsedTime: 159.1 seconds RetCode: 0 Status: OK PackageFile: biosigner_1.35.0.tar.gz PackageFileSize: 4.481 MiB