Package: biosigner Version: 1.35.0 Command: /home/biocbuild/bbs-3.21-bioc/R/bin/R CMD check --install=check:biosigner.install-out.txt --library=/home/biocbuild/bbs-3.21-bioc/R/site-library --timings biosigner_1.35.0.tar.gz StartedAt: 2025-02-05 20:27:51 -0500 (Wed, 05 Feb 2025) EndedAt: 2025-02-05 20:34:46 -0500 (Wed, 05 Feb 2025) EllapsedTime: 415.7 seconds RetCode: 0 Status: OK CheckDir: biosigner.Rcheck Warnings: 0