Package: biosigner Version: 1.35.0 Command: rm -rf biosigner.buildbin-libdir && mkdir biosigner.buildbin-libdir && E:\biocbuild\bbs-3.21-bioc\R\bin\R.exe CMD INSTALL --build --library=biosigner.buildbin-libdir biosigner_1.35.0.tar.gz StartedAt: 2025-02-06 07:37:06 -0500 (Thu, 06 Feb 2025) EndedAt: 2025-02-06 07:37:53 -0500 (Thu, 06 Feb 2025) EllapsedTime: 47.0 seconds RetCode: 0 Status: OK PackageFile: biosigner_1.35.0.zip PackageFileSize: 3.939 MiB