Package: biosigner Version: 1.35.0 Command: chmod a+r biosigner -R && E:\biocbuild\bbs-3.21-bioc\R\bin\R.exe CMD build --keep-empty-dirs --no-resave-data biosigner StartedAt: 2025-02-05 17:37:02 -0500 (Wed, 05 Feb 2025) EndedAt: 2025-02-05 17:40:29 -0500 (Wed, 05 Feb 2025) EllapsedTime: 207.3 seconds RetCode: 0 Status: OK PackageFile: biosigner_1.35.0.tar.gz PackageFileSize: 3.566 MiB