Package: biosigner Version: 1.35.0 Command: E:\biocbuild\bbs-3.21-bioc\R\bin\R.exe CMD check --no-multiarch --install=check:biosigner.install-out.txt --library=E:\biocbuild\bbs-3.21-bioc\R\library --no-vignettes --timings biosigner_1.35.0.tar.gz StartedAt: 2025-02-05 23:37:52 -0500 (Wed, 05 Feb 2025) EndedAt: 2025-02-05 23:44:16 -0500 (Wed, 05 Feb 2025) EllapsedTime: 384.4 seconds RetCode: 0 Status: OK CheckDir: biosigner.Rcheck Warnings: 0