Package: biosigner Version: 1.35.0 Command: E:\biocbuild\bbs-3.21-bioc\R\bin\R.exe CMD INSTALL biosigner StartedAt: 2025-02-05 16:53:34 -0500 (Wed, 05 Feb 2025) EndedAt: 2025-02-05 16:54:17 -0500 (Wed, 05 Feb 2025) EllapsedTime: 43.5 seconds RetCode: 0 Status: OK