Package: biotmle Version: 1.31.0 Command: /home/biocbuild/R/R/bin/R CMD build --keep-empty-dirs --no-resave-data biotmle StartedAt: 2025-01-28 21:21:35 -0000 (Tue, 28 Jan 2025) EndedAt: 2025-01-28 21:23:13 -0000 (Tue, 28 Jan 2025) EllapsedTime: 98.0 seconds RetCode: 0 Status: OK PackageFile: biotmle_1.31.0.tar.gz PackageFileSize: 303.2 KiB