Package: biotmle Version: 1.31.0 Command: rm -rf biotmle.buildbin-libdir && mkdir biotmle.buildbin-libdir && /Users/biocbuild/BBS/utils/build-universal.sh biotmle_1.31.0.tar.gz /Library/Frameworks/R.framework/Resources/bin/R biotmle.buildbin-libdir StartedAt: 2025-02-10 00:44:16 -0500 (Mon, 10 Feb 2025) EndedAt: 2025-02-10 00:44:52 -0500 (Mon, 10 Feb 2025) EllapsedTime: 36.7 seconds RetCode: 0 Status: OK PackageFile: biotmle_1.31.0.tgz PackageFileSize: 368.1 KiB