Package: biotmle Version: 1.31.0 Command: /Library/Frameworks/R.framework/Resources/bin/R CMD build --keep-empty-dirs --no-resave-data biotmle StartedAt: 2025-02-09 16:04:58 -0500 (Sun, 09 Feb 2025) EndedAt: 2025-02-09 16:06:11 -0500 (Sun, 09 Feb 2025) EllapsedTime: 72.8 seconds RetCode: 0 Status: OK PackageFile: biotmle_1.31.0.tar.gz PackageFileSize: 315.2 KiB