Package: biotmle Version: 1.31.0 Command: rm -rf biotmle.buildbin-libdir && mkdir biotmle.buildbin-libdir && E:\biocbuild\bbs-3.21-bioc\R\bin\R.exe CMD INSTALL --build --library=biotmle.buildbin-libdir biotmle_1.31.0.tar.gz StartedAt: 2025-02-10 07:19:41 -0500 (Mon, 10 Feb 2025) EndedAt: 2025-02-10 07:20:38 -0500 (Mon, 10 Feb 2025) EllapsedTime: 57.1 seconds RetCode: 0 Status: OK PackageFile: biotmle_1.31.0.zip PackageFileSize: 323.9 KiB