Package: biotmle Version: 1.31.0 Command: E:\biocbuild\bbs-3.21-bioc\R\bin\R.exe CMD check --no-multiarch --install=check:biotmle.install-out.txt --library=E:\biocbuild\bbs-3.21-bioc\R\library --no-vignettes --timings biotmle_1.31.0.tar.gz StartedAt: 2025-02-09 23:07:45 -0500 (Sun, 09 Feb 2025) EndedAt: 2025-02-09 23:12:19 -0500 (Sun, 09 Feb 2025) EllapsedTime: 273.9 seconds RetCode: 0 Status: OK CheckDir: biotmle.Rcheck Warnings: 0