Package: biovizBase Version: 1.55.0 Command: /Library/Frameworks/R.framework/Resources/bin/R CMD INSTALL biovizBase StartedAt: 2025-02-04 15:15:52 -0500 (Tue, 04 Feb 2025) EndedAt: 2025-02-04 15:16:09 -0500 (Tue, 04 Feb 2025) EllapsedTime: 17.8 seconds RetCode: 0 Status: OK