Package: biovizBase Version: 1.55.0 Command: /home/biocbuild/R/R/bin/R CMD check --install=check:biovizBase.install-out.txt --library=/home/biocbuild/R/R/site-library --no-vignettes --timings biovizBase_1.55.0.tar.gz StartedAt: 2025-01-28 08:30:01 -0000 (Tue, 28 Jan 2025) EndedAt: 2025-01-28 08:53:52 -0000 (Tue, 28 Jan 2025) EllapsedTime: 1430.2 seconds RetCode: 0 Status: WARNINGS CheckDir: biovizBase.Rcheck Warnings: 2