Package: biovizBase Version: 1.55.0 Command: /home/biocbuild/R/R/bin/R CMD INSTALL biovizBase StartedAt: 2025-01-29 20:06:55 -0000 (Wed, 29 Jan 2025) EndedAt: 2025-01-29 20:07:56 -0000 (Wed, 29 Jan 2025) EllapsedTime: 61.1 seconds RetCode: 0 Status: OK