Package: biovizBase Version: 1.55.0 Command: /Library/Frameworks/R.framework/Resources/bin/R CMD build --keep-empty-dirs --no-resave-data biovizBase StartedAt: 2025-02-04 16:02:44 -0500 (Tue, 04 Feb 2025) EndedAt: 2025-02-04 16:03:42 -0500 (Tue, 04 Feb 2025) EllapsedTime: 58.0 seconds RetCode: 0 Status: OK PackageFile: biovizBase_1.55.0.tar.gz PackageFileSize: 2.397 MiB