Package: biovizBase Version: 1.55.0 Command: /Library/Frameworks/R.framework/Resources/bin/R CMD INSTALL biovizBase StartedAt: 2025-02-04 15:25:01 -0500 (Tue, 04 Feb 2025) EndedAt: 2025-02-04 15:26:00 -0500 (Tue, 04 Feb 2025) EllapsedTime: 59.7 seconds RetCode: 0 Status: OK