Package: biovizBase Version: 1.55.0 Command: /home/biocbuild/bbs-3.21-bioc/R/bin/R CMD check --install=check:biovizBase.install-out.txt --library=/home/biocbuild/bbs-3.21-bioc/R/site-library --timings biovizBase_1.55.0.tar.gz StartedAt: 2025-02-04 20:25:57 -0500 (Tue, 04 Feb 2025) EndedAt: 2025-02-04 20:31:57 -0500 (Tue, 04 Feb 2025) EllapsedTime: 359.7 seconds RetCode: 0 Status: WARNINGS CheckDir: biovizBase.Rcheck Warnings: 1