Package: biovizBase Version: 1.55.0 Command: rm -rf biovizBase.buildbin-libdir && mkdir biovizBase.buildbin-libdir && E:\biocbuild\bbs-3.21-bioc\R\bin\R.exe CMD INSTALL --build --library=biovizBase.buildbin-libdir biovizBase_1.55.0.tar.gz StartedAt: 2025-02-05 07:32:45 -0500 (Wed, 05 Feb 2025) EndedAt: 2025-02-05 07:34:25 -0500 (Wed, 05 Feb 2025) EllapsedTime: 100.0 seconds RetCode: 0 Status: OK PackageFile: biovizBase_1.55.0.zip PackageFileSize: 2.558 MiB