Package: biovizBase Version: 1.55.0 Command: chmod a+r biovizBase -R && E:\biocbuild\bbs-3.21-bioc\R\bin\R.exe CMD build --keep-empty-dirs --no-resave-data biovizBase StartedAt: 2025-02-04 17:30:23 -0500 (Tue, 04 Feb 2025) EndedAt: 2025-02-04 17:32:00 -0500 (Tue, 04 Feb 2025) EllapsedTime: 97.5 seconds RetCode: 0 Status: OK PackageFile: biovizBase_1.55.0.tar.gz PackageFileSize: 2.217 MiB