Package: blacksheepr Version: 1.21.0 Command: /Library/Frameworks/R.framework/Resources/bin/R CMD INSTALL blacksheepr StartedAt: 2025-02-09 15:30:57 -0500 (Sun, 09 Feb 2025) EndedAt: 2025-02-09 15:30:57 -0500 (Sun, 09 Feb 2025) EllapsedTime: 0.1 seconds RetCode: 1 Status: ERROR