Package: blacksheepr Version: 1.21.0 Command: /home/biocbuild/R/R/bin/R CMD build --keep-empty-dirs --no-resave-data blacksheepr StartedAt: 2025-01-28 21:23:13 -0000 (Tue, 28 Jan 2025) EndedAt: 2025-01-28 21:23:14 -0000 (Tue, 28 Jan 2025) EllapsedTime: 1.0 seconds RetCode: 1 Status: ERROR PackageFile: None PackageFileSize: NA