Package: blacksheepr Version: 1.21.0 Command: /home/biocbuild/bbs-3.21-bioc/R/bin/R CMD build --keep-empty-dirs --no-resave-data blacksheepr StartedAt: 2025-02-12 16:23:28 -0500 (Wed, 12 Feb 2025) EndedAt: 2025-02-12 16:25:47 -0500 (Wed, 12 Feb 2025) EllapsedTime: 138.2 seconds RetCode: 0 Status: OK PackageFile: blacksheepr_1.21.0.tar.gz PackageFileSize: 4.225 MiB