Package: blacksheepr Version: 1.21.0 Command: /home/biocbuild/bbs-3.21-bioc/R/bin/R CMD check --install=check:blacksheepr.install-out.txt --library=/home/biocbuild/bbs-3.21-bioc/R/site-library --timings blacksheepr_1.21.0.tar.gz StartedAt: 2025-02-12 20:25:01 -0500 (Wed, 12 Feb 2025) EndedAt: 2025-02-12 20:30:41 -0500 (Wed, 12 Feb 2025) EllapsedTime: 339.5 seconds RetCode: 0 Status: OK CheckDir: blacksheepr.Rcheck Warnings: 0