Package: blima Version: 1.41.0 Command: rm -rf blima.buildbin-libdir && mkdir blima.buildbin-libdir && /Users/biocbuild/BBS/utils/build-universal.sh blima_1.41.0.tar.gz /Library/Frameworks/R.framework/Resources/bin/R blima.buildbin-libdir StartedAt: 2025-02-04 22:09:32 -0500 (Tue, 04 Feb 2025) EndedAt: 2025-02-04 22:09:42 -0500 (Tue, 04 Feb 2025) EllapsedTime: 10.2 seconds RetCode: 0 Status: OK PackageFile: blima_1.41.0.tgz PackageFileSize: 424.8 KiB