Package: blima Version: 1.41.0 Command: /Library/Frameworks/R.framework/Resources/bin/R CMD build --keep-empty-dirs --no-resave-data blima StartedAt: 2025-02-04 15:43:59 -0500 (Tue, 04 Feb 2025) EndedAt: 2025-02-04 15:45:43 -0500 (Tue, 04 Feb 2025) EllapsedTime: 104.1 seconds RetCode: 0 Status: OK PackageFile: blima_1.41.0.tar.gz PackageFileSize: 264.6 KiB