Package: blima Version: 1.41.0 Command: /Library/Frameworks/R.framework/Resources/bin/R CMD INSTALL blima StartedAt: 2025-02-04 15:11:47 -0500 (Tue, 04 Feb 2025) EndedAt: 2025-02-04 15:11:57 -0500 (Tue, 04 Feb 2025) EllapsedTime: 9.7 seconds RetCode: 0 Status: OK