Package: blima Version: 1.41.0 Command: /home/biocbuild/R/R/bin/R CMD build --keep-empty-dirs --no-resave-data blima StartedAt: 2025-01-28 21:23:14 -0000 (Tue, 28 Jan 2025) EndedAt: 2025-01-28 21:30:43 -0000 (Tue, 28 Jan 2025) EllapsedTime: 449.1 seconds RetCode: 0 Status: OK PackageFile: blima_1.41.0.tar.gz PackageFileSize: 250.9 KiB