Package: blima Version: 1.41.0 Command: rm -rf blima.buildbin-libdir && mkdir blima.buildbin-libdir && /Users/biocbuild/BBS/utils/build-universal.sh blima_1.41.0.tar.gz /Library/Frameworks/R.framework/Resources/bin/R blima.buildbin-libdir StartedAt: 2025-02-13 00:27:34 -0500 (Thu, 13 Feb 2025) EndedAt: 2025-02-13 00:28:06 -0500 (Thu, 13 Feb 2025) EllapsedTime: 32.4 seconds RetCode: 0 Status: OK PackageFile: blima_1.41.0.tgz PackageFileSize: 422.6 KiB