Package: blima Version: 1.41.0 Command: /home/biocbuild/bbs-3.21-bioc/R/bin/R CMD build --keep-empty-dirs --no-resave-data blima StartedAt: 2025-02-09 16:26:22 -0500 (Sun, 09 Feb 2025) EndedAt: 2025-02-09 16:31:14 -0500 (Sun, 09 Feb 2025) EllapsedTime: 292.3 seconds RetCode: 0 Status: OK PackageFile: blima_1.41.0.tar.gz PackageFileSize: 264.4 KiB