Package: blima Version: 1.41.0 Command: E:\biocbuild\bbs-3.21-bioc\R\bin\R.exe CMD check --no-multiarch --install=check:blima.install-out.txt --library=E:\biocbuild\bbs-3.21-bioc\R\library --no-vignettes --timings blima_1.41.0.tar.gz StartedAt: 2025-02-09 23:10:47 -0500 (Sun, 09 Feb 2025) EndedAt: 2025-02-09 23:13:22 -0500 (Sun, 09 Feb 2025) EllapsedTime: 154.8 seconds RetCode: 0 Status: OK CheckDir: blima.Rcheck Warnings: 0