Package: blima Version: 1.41.0 Command: E:\biocbuild\bbs-3.21-bioc\R\bin\R.exe CMD INSTALL blima StartedAt: 2025-02-12 15:53:04 -0500 (Wed, 12 Feb 2025) EndedAt: 2025-02-12 15:53:47 -0500 (Wed, 12 Feb 2025) EllapsedTime: 42.4 seconds RetCode: 0 Status: OK