Package: bluster Version: 1.17.0 Command: rm -rf bluster.buildbin-libdir && mkdir bluster.buildbin-libdir && /Users/biocbuild/BBS/utils/build-universal.sh bluster_1.17.0.tar.gz /Library/Frameworks/R.framework/Resources/bin/R bluster.buildbin-libdir StartedAt: 2025-02-10 00:44:22 -0500 (Mon, 10 Feb 2025) EndedAt: 2025-02-10 00:44:56 -0500 (Mon, 10 Feb 2025) EllapsedTime: 33.3 seconds RetCode: 0 Status: OK PackageFile: bluster_1.17.0.tgz PackageFileSize: 3.55 MiB