Package: bluster Version: 1.17.0 Command: /home/biocbuild/bbs-3.21-bioc/R/bin/R CMD build --keep-empty-dirs --no-resave-data bluster StartedAt: 2025-02-12 16:23:54 -0500 (Wed, 12 Feb 2025) EndedAt: 2025-02-12 16:25:43 -0500 (Wed, 12 Feb 2025) EllapsedTime: 108.1 seconds RetCode: 0 Status: OK PackageFile: bluster_1.17.0.tar.gz PackageFileSize: 3.108 MiB