Package: bnem Version: 1.15.0 Command: /Library/Frameworks/R.framework/Resources/bin/R CMD build --keep-empty-dirs --no-resave-data bnem StartedAt: 2025-02-03 16:19:12 -0500 (Mon, 03 Feb 2025) EndedAt: 2025-02-03 16:19:36 -0500 (Mon, 03 Feb 2025) EllapsedTime: 24.3 seconds RetCode: 0 Status: OK PackageFile: bnem_1.15.0.tar.gz PackageFileSize: 1.682 MiB