Package: bnem Version: 1.15.0 Command: /Library/Frameworks/R.framework/Resources/bin/R CMD check --install=check:bnem.install-out.txt --library=/Library/Frameworks/R.framework/Resources/library --no-vignettes --timings bnem_1.15.0.tar.gz StartedAt: 2025-02-03 18:55:58 -0500 (Mon, 03 Feb 2025) EndedAt: 2025-02-03 18:57:27 -0500 (Mon, 03 Feb 2025) EllapsedTime: 89.1 seconds RetCode: 0 Status: OK CheckDir: bnem.Rcheck Warnings: 0