Package: bnem Version: 1.15.0 Command: /home/biocbuild/R/R/bin/R CMD build --keep-empty-dirs --no-resave-data bnem StartedAt: 2025-01-28 21:25:53 -0000 (Tue, 28 Jan 2025) EndedAt: 2025-01-28 21:27:35 -0000 (Tue, 28 Jan 2025) EllapsedTime: 102.0 seconds RetCode: 0 Status: OK PackageFile: bnem_1.15.0.tar.gz PackageFileSize: 1.278 MiB