Package: bnem Version: 1.15.0 Command: /home/biocbuild/R/R/bin/R CMD INSTALL bnem StartedAt: 2025-01-29 20:31:12 -0000 (Wed, 29 Jan 2025) EndedAt: 2025-01-29 20:32:01 -0000 (Wed, 29 Jan 2025) EllapsedTime: 49.7 seconds RetCode: 0 Status: OK