Package: bnem Version: 1.15.0 Command: rm -rf bnem.buildbin-libdir && mkdir bnem.buildbin-libdir && /Users/biocbuild/BBS/utils/build-universal.sh bnem_1.15.0.tar.gz /Library/Frameworks/R.framework/Resources/bin/R bnem.buildbin-libdir StartedAt: 2025-02-04 00:25:07 -0500 (Tue, 04 Feb 2025) EndedAt: 2025-02-04 00:25:59 -0500 (Tue, 04 Feb 2025) EllapsedTime: 52.0 seconds RetCode: 0 Status: OK PackageFile: bnem_1.15.0.tgz PackageFileSize: 1.955 MiB