Package: bnem Version: 1.15.0 Command: /Library/Frameworks/R.framework/Resources/bin/R CMD build --keep-empty-dirs --no-resave-data bnem StartedAt: 2025-02-09 16:06:24 -0500 (Sun, 09 Feb 2025) EndedAt: 2025-02-09 16:07:34 -0500 (Sun, 09 Feb 2025) EllapsedTime: 69.4 seconds RetCode: 0 Status: OK PackageFile: bnem_1.15.0.tar.gz PackageFileSize: 1.682 MiB