Package: bnem Version: 1.15.0 Command: /Library/Frameworks/R.framework/Resources/bin/R CMD check --install=check:bnem.install-out.txt --library=/Library/Frameworks/R.framework/Resources/library --no-vignettes --timings bnem_1.15.0.tar.gz StartedAt: 2025-02-09 19:27:07 -0500 (Sun, 09 Feb 2025) EndedAt: 2025-02-09 19:32:45 -0500 (Sun, 09 Feb 2025) EllapsedTime: 337.4 seconds RetCode: 0 Status: OK CheckDir: bnem.Rcheck Warnings: 0